BEGIN:VCALENDAR
VERSION:2.0
PRODID:-//All Things Girl Scouts - ECPv6.15.20//NONSGML v1.0//EN
CALSCALE:GREGORIAN
METHOD:PUBLISH
X-WR-CALNAME:All Things Girl Scouts
X-ORIGINAL-URL:https://allthingsgirlscouts.com
X-WR-CALDESC:Events for All Things Girl Scouts
REFRESH-INTERVAL;VALUE=DURATION:PT1H
X-Robots-Tag:noindex
X-PUBLISHED-TTL:PT1H
BEGIN:VTIMEZONE
TZID:UTC
BEGIN:STANDARD
TZOFFSETFROM:+0000
TZOFFSETTO:+0000
TZNAME:UTC
DTSTART:20170101T000000
END:STANDARD
END:VTIMEZONE
BEGIN:VEVENT
DTSTART;TZID=UTC:20180226T163000
DTEND;TZID=UTC:20180226T193000
DTSTAMP:20260424T092946
CREATED:20180220T233846Z
LAST-MODIFIED:20180221T142950Z
UID:2499-1519662600-1519673400@allthingsgirlscouts.com
SUMMARY:Girl Scouts Spirit Night in Orange City
DESCRIPTION:Hey Girl Scouts\, let Chick-Fil-A cook us dinner on Monday 2/26!\nPresent this flyer at ￼￼￼1141 Saxon Blvd\, Orange City\, FL 32763. Say you’re with Girl Scouts and Chick-Fil-A will provide 20% back to Roadrunner and Rainbow Lakes at the end of the evening.
URL:https://allthingsgirlscouts.com/event/girl-scouts-spirit-night-in-orange-city/
LOCATION:Chick-fil-A\, 1141 Saxon Blvd\, Orange City\, FL\, 32763\, United States
CATEGORIES:Adult,Ambassador,Brownie,Cadette,Daisy,Junior,Senior,Volunteer
END:VEVENT
BEGIN:VEVENT
DTSTART;TZID=UTC:20180226T160000
DTEND;TZID=UTC:20180226T220000
DTSTAMP:20260424T092946
CREATED:20180220T233932Z
LAST-MODIFIED:20180221T142206Z
UID:2503-1519660800-1519682400@allthingsgirlscouts.com
SUMMARY:Girl Scouts Spirit Night in Altamonte
DESCRIPTION:Hey Girl Scouts\, let Chilis cook us dinner on Monday 2/26!\nPresent this flyer at 397 E. Altamonte Dr\, Altamonte Springs\, FL 32701. Say you’re with Girl Scouts and Chilis will provide 10% back to Phoenix at the end of the evening. \n \n 
URL:https://allthingsgirlscouts.com/event/girl-scouts-spirit-night-in-altamonte/
LOCATION:Chilis\, 397 E. Altamonte Dr.\, Altamonte Springs\, FL\, 32701\, United States
CATEGORIES:Adult,Ambassador,Brownie,Cadette,Daisy,Junior,Senior,Volunteer
END:VEVENT
BEGIN:VEVENT
DTSTART;TZID=UTC:20180226T160000
DTEND;TZID=UTC:20180226T210000
DTSTAMP:20260424T092946
CREATED:20180220T234019Z
LAST-MODIFIED:20180221T142408Z
UID:2506-1519660800-1519678800@allthingsgirlscouts.com
SUMMARY:Girl Scouts Spirit Night in Mount Dora
DESCRIPTION:Hey Girl Scouts\, let Chilis cook us dinner on Monday 2/26!\nPresent this flyer at 17419 U.S. 441\, Mt Dora\, FL 32756. Say you’re with Girl Scouts and Chilis will provide 10% back to Heart of Lake at the end of the evening. \n \n 
URL:https://allthingsgirlscouts.com/event/girl-scouts-spirit-night-in-mount-dora/
LOCATION:Chilis\, 17419 U.S. 441\, Mt Dora\, FL\, 32756\, United States
CATEGORIES:Adult,Ambassador,Brownie,Cadette,Daisy,Junior,Senior,Volunteer
END:VEVENT
BEGIN:VEVENT
DTSTART;VALUE=DATE:20180218
DTEND;VALUE=DATE:20180219
DTSTAMP:20260424T092946
CREATED:20180123T182530Z
LAST-MODIFIED:20180213T172529Z
UID:2398-1518912000-1518998399@allthingsgirlscouts.com
SUMMARY:Daytona SpeedWeek 2018 - Daytona 500
DESCRIPTION:Daytona International Speedway has a new program\, Daytona G.I.V.E.S.\, for volunteer groups to work directly with them during Speedway events assisting Guest Services in the following areas: \n\nAdmissions – Ticket scanning at the entrance and exit gates\nStadium – Ushers at cross-over gates\, stairways\, elevators\, stadium seating\, and concourse\nTrams – Tram plaza attendants\n\nGirl Scouts of Citrus has been invited to participate in this great VOLUNTEER OPPORTUNITY. We will be able to earn money for your volunteer time\, and every penny earned – will go to the 2018 Gifts for Girls Annual Family Campaign! \nBe there for all the excitement of the race. Come for one or both days.  Family and friends are welcome to volunteer on behalf of Girl Scouts.   All volunteers must be 18 years or older. \nTo volunteer\, please fill out and submit the form below or contact Lydia Sealey at (407) 228 -1625 or lsealey@citrus-gs.org. \n \n\n			Fill out my Wufoo form!
URL:https://allthingsgirlscouts.com/event/daytona-speedweek-2018-daytona-500/
LOCATION:Daytona International Speedway\, 1801 W International Speedway Blvd\, Daytona Beach\, FL\, 32114\, United States
CATEGORIES:Volunteer
ATTACH;FMTTYPE=image/png:https://allthingsgirlscouts.com/wp-content/uploads/2018/01/Screen-Shot-2018-01-23-at-2.38.33-PM.png
ORGANIZER;CN="Lydia Sealey":MAILTO:lsealey@citrus-gs.org
END:VEVENT
BEGIN:VEVENT
DTSTART;VALUE=DATE:20180217
DTEND;VALUE=DATE:20180218
DTSTAMP:20260424T092946
CREATED:20180123T182208Z
LAST-MODIFIED:20180124T204620Z
UID:2390-1518825600-1518911999@allthingsgirlscouts.com
SUMMARY:Daytona SpeedWeek 2018 - Powershares QQQ 300
DESCRIPTION:Daytona International Speedway has a new program\, Daytona G.I.V.E.S.\, for volunteer groups to work directly with them during Speedway events assisting Guest Services in the following areas: \n\nAdmissions – Ticket scanning at the entrance and exit gates\nStadium – Ushers at cross-over gates\, stairways\, elevators\, stadium seating\, and concourse\nTrams – Tram plaza attendants\n\nGirl Scouts of Citrus has been invited to participate in this great VOLUNTEER OPPORTUNITY. We will be able to earn money for your volunteer time\, and every penny earned – will go to the 2018 Gifts for Girls Annual Family Campaign! \nBe there for all the excitement of the race. Come for one or both days.  Family and friends are welcome to volunteer on behalf of Girl Scouts.   All volunteers must be 18 years or older. \nTo volunteer\, please fill out and submit the form below or contact Lydia Sealey at (407) 228 -1625 or lsealey@citrus-gs.org. \n \n\n			Fill out my Wufoo form!
URL:https://allthingsgirlscouts.com/event/daytona-speedweek-2018-powershares-qqq-300/
LOCATION:Daytona International Speedway\, 1801 W International Speedway Blvd\, Daytona Beach\, FL\, 32114\, United States
CATEGORIES:Volunteer
ATTACH;FMTTYPE=image/png:https://allthingsgirlscouts.com/wp-content/uploads/2018/01/powershares-logo.png
ORGANIZER;CN="Lydia Sealey":MAILTO:lsealey@citrus-gs.org
END:VEVENT
END:VCALENDAR