BEGIN:VCALENDAR
VERSION:2.0
PRODID:-//All Things Girl Scouts - ECPv6.15.20//NONSGML v1.0//EN
CALSCALE:GREGORIAN
METHOD:PUBLISH
X-WR-CALNAME:All Things Girl Scouts
X-ORIGINAL-URL:https://allthingsgirlscouts.com
X-WR-CALDESC:Events for All Things Girl Scouts
REFRESH-INTERVAL;VALUE=DURATION:PT1H
X-Robots-Tag:noindex
X-PUBLISHED-TTL:PT1H
BEGIN:VTIMEZONE
TZID:UTC
BEGIN:STANDARD
TZOFFSETFROM:+0000
TZOFFSETTO:+0000
TZNAME:UTC
DTSTART:20160101T000000
END:STANDARD
END:VTIMEZONE
BEGIN:VEVENT
DTSTART;TZID=UTC:20170129T133000
DTEND;TZID=UTC:20170129T163000
DTSTAMP:20260424T140254
CREATED:20170129T142149Z
LAST-MODIFIED:20170129T142149Z
UID:626-1485696600-1485707400@allthingsgirlscouts.com
SUMMARY:Solar Bears Girl Scouts Day
DESCRIPTION:Game starts at 1:30 p.m. Game events: Shuck a Puck Broom Ball Meet Shade! Open to all levels\, adults and tagalongs!
URL:https://allthingsgirlscouts.com/event/solar-bears-girl-scouts-day/
CATEGORIES:Adult,Ambassador,Brownie,Cadette,Daisy,Junior,Senior
ATTACH;FMTTYPE=image/png:https://allthingsgirlscouts.com/wp-content/uploads/2017/01/DBJCSA-Grade-Level-Long.png
END:VEVENT
BEGIN:VEVENT
DTSTART;TZID=UTC:20170122T123000
DTEND;TZID=UTC:20170122T173000
DTSTAMP:20260424T140254
CREATED:20170129T142146Z
LAST-MODIFIED:20170129T142146Z
UID:621-1485088200-1485106200@allthingsgirlscouts.com
SUMMARY:Lulu's Cookie Academy
DESCRIPTION:Academy take-a-ways will include: 2017 Cookie Activity Pin Rally Patch 100 years of Girl Scouts selling cookies patch Cookie University Patch Cookie Business Badges Financial Literacy Badges Cookie Kick off Please Share with your committees we are very excited Celebrate 100 years of selling Girls Scout Cookie as well as hosting another year of Cookie University! PRE- Cookie University Bring-a-Friend Brunch Love Girl Scouts?  Love food?  Share your passions with a new friend at Bring-a-Friend Brunch!  You’ve spent all year telling your friend all about the cool things you’ve done with your Girl Scout troop.  Now is your chance to get her involved.  Sign up with an unregistered girl who can’t wait to join\, and the two of you will get to enjoy a morning of exclusive Girl Scout activities and brunch*.   Afterward\, you’ll head off together to learn\, rally\, and fiesta at Lulu’s Cookie Academy. *Bring-a-Friend Brunch open to the first 40 girls. Minimum of 20 total girls required to host the brunch. If minimum is not met\, an alternate bonus will be offered to registered girls and friends not later than 1 week prior to the event. Brunch will be from 10:30 am-12:00pm.
URL:https://allthingsgirlscouts.com/event/lulus-cookie-academy-2/
CATEGORIES:Adult,Ambassador,Brownie,Cadette,Daisy,Junior,Senior
ATTACH;FMTTYPE=image/png:https://allthingsgirlscouts.com/wp-content/uploads/2017/01/DBJCSA-Grade-Level-Long.png
END:VEVENT
BEGIN:VEVENT
DTSTART;TZID=UTC:20170121T190000
DTEND;TZID=UTC:20170121T220000
DTSTAMP:20260424T140254
CREATED:20170129T142146Z
LAST-MODIFIED:20170129T142146Z
UID:620-1485025200-1485036000@allthingsgirlscouts.com
SUMMARY:Monster Jam is Rolling Your Way!
DESCRIPTION:Pit Party:  2:30 PM – 5:30 PM Pit Passes are just $10 each! Tickets Start At $15* plus receive a FREE scout patch! To purchase tickets\, please call: (866) 248-8740 and choose Option 1 For questions call; or email:  JJohnson@feldinc.com   https://vimeo.com/user35631740/review/169447077/53b76908ab Check out the action on YouTube!
URL:https://allthingsgirlscouts.com/event/monster-jam-is-rolling-your-way/
CATEGORIES:Adult,Ambassador,Brownie,Cadette,Daisy,Junior,Senior
ATTACH;FMTTYPE=image/png:https://allthingsgirlscouts.com/wp-content/uploads/2017/01/DBJCSA-Grade-Level-Long.png
END:VEVENT
BEGIN:VEVENT
DTSTART;TZID=UTC:20170121T150000
DTEND;TZID=UTC:20170121T170000
DTSTAMP:20260424T140254
CREATED:20170129T142145Z
LAST-MODIFIED:20170129T142145Z
UID:619-1485010800-1485018000@allthingsgirlscouts.com
SUMMARY:"New" Chocolate Kingdom Experience (includes Tour and Class)
DESCRIPTION:Do you love chocolate? Do you enjoy creating edible fun? Then look no further! We are excited once again to partner with Chocolate Kingdom! Come on this brand new Experience where you go on an interactive journey that uncovers how the history of chocolate begins\, starting from the bean all the way to how it transforms into delicious chocolate. Each group will have a personal tour guide that will join forces with a handsome Prince and his Dragon as they go on a journey to see Princess Chocolina! Travel through the kingdom and see a Cacao Tree Greenhouse\, Chocolate Museum\, Mystical River of Chocolate and much more. After you complete your magical tour stick around for a chocolate class where you will do 3 different activities including  how to dip an item in chocolate… how to mold an item in chocolate\,  and then they would make a chocolate pizza! This family owned and operated business brings history\, modern technology\, imagination and even environmental awareness together to a one-of-a-kind experience that will inspire and amaze chocoholics of all ages. Space is limited so please register only those adults necessary to meet girl to adult ratio guidelines. Please check in at 2:45pm for your 3:00pm tour. Chocolate Kingdom patches are available for purchase through Girl Scouts of Citrus Council Shop for $1.50 each.
URL:https://allthingsgirlscouts.com/event/new-chocolate-kingdom-experience-includes-tour-and-class/
CATEGORIES:Adult,Ambassador,Brownie,Cadette,Daisy,Junior,Senior
ATTACH;FMTTYPE=image/png:https://allthingsgirlscouts.com/wp-content/uploads/2017/01/DBJCSA-Grade-Level-Long.png
END:VEVENT
BEGIN:VEVENT
DTSTART;TZID=UTC:20170121T090000
DTEND;TZID=UTC:20170121T160000
DTSTAMP:20260424T140254
CREATED:20170129T142142Z
LAST-MODIFIED:20170129T142142Z
UID:614-1484989200-1485014400@allthingsgirlscouts.com
SUMMARY:Birdapalooza
DESCRIPTION:The Lake Apopka Wildlife Festival & Birdapalooza features an awesome birding location\, the 20\,000-acre Lake Apopka North Shore. On Saturday January 21\, 2017 the Birdapalooza festival\, now in its 5th year\, will be held at Orange County’s beautiful Magnolia Park on Lake Apopka (2929 S. Binion Road\, Apopka\, FL 32703). There will be bird banding\, guided bus tours\, nature walks\, including kids walks\, kids fishing instruction which includes a free fishing pole for early arrivals that complete the 2 hour workshop\, owl-pellet dissection\, Ibex puppetry\, air boat rides (first-come first-served for a fee)\, tree giveaway\, nature-oriented vendors and exhibits\, music\, and food trucks. Magnolia Park\, 2929 S. Binion Road\, Apopka\, FL 32703. Details are on www.birdapalooza.com or call (407) 836-5850. Orange Audubon Society has added field trips on Friday January 20\, 2017 and Sunday January 22\, 2017 led by local\, state and national expert birders. Find out more at www.orangeaudubonfl.org/birdapalooza. 
URL:https://allthingsgirlscouts.com/event/birdapalooza-2/
CATEGORIES:Adult,Ambassador,Brownie,Cadette,Daisy,Junior,Senior
ATTACH;FMTTYPE=image/png:https://allthingsgirlscouts.com/wp-content/uploads/2017/01/DBJCSA-Grade-Level-Long.png
END:VEVENT
BEGIN:VEVENT
DTSTART;TZID=UTC:20170114T090000
DTEND;TZID=UTC:20170114T104500
DTSTAMP:20260424T140254
CREATED:20170129T142134Z
LAST-MODIFIED:20170129T142134Z
UID:608-1484384400-1484390700@allthingsgirlscouts.com
SUMMARY:Amazing Animals Inc Girl Scout Day Brownie – Pets badge
DESCRIPTION:Come and earn your Pets badge with Amazing Animals Inc. where you will get to see over 100 exotic animals from around the world! Get ready to experience an up close and personal time with 6 different common pets and learn: How to take care of a reptile\, bird\, fish\, and a small mammal How do you keep your pet healthy and happy Wash\, groom\, or soak an animal and discuss why clean animals are happy animals And soooo much more!! Badge is included!
URL:https://allthingsgirlscouts.com/event/amazing-animals-inc-girl-scout-day-brownie-pets-badge/
CATEGORIES:Adult,Brownie
ATTACH;FMTTYPE=image/png:https://allthingsgirlscouts.com/wp-content/uploads/2017/01/Brownie-Grade-Level-Long.png
END:VEVENT
BEGIN:VEVENT
DTSTART;TZID=UTC:20170112T193000
DTEND;TZID=UTC:20170116T130000
DTSTAMP:20260424T140254
CREATED:20170129T142134Z
LAST-MODIFIED:20170129T142134Z
UID:607-1484249400-1484571600@allthingsgirlscouts.com
SUMMARY:Come out to the Ringling Bros. and Barnum & Bailey Circus
DESCRIPTION:Scout Pricing: $13 Flat Rate plus receive a FREE scout patch! To purchase tickets\, please call: (866) 248-8740 and choose Option 1 For questions call; or email: JJohnson@feldinc.com 
URL:https://allthingsgirlscouts.com/event/come-out-to-the-ringling-bros-and-barnum-bailey-circus/
CATEGORIES:Adult,Ambassador,Brownie,Cadette,Daisy,Junior,Senior
ATTACH;FMTTYPE=image/png:https://allthingsgirlscouts.com/wp-content/uploads/2017/01/DBJCSA-Grade-Level-Long.png
END:VEVENT
BEGIN:VEVENT
DTSTART;TZID=UTC:20170106T110000
DTEND;TZID=UTC:20170108T190000
DTSTAMP:20260424T140254
CREATED:20170129T142133Z
LAST-MODIFIED:20170129T142133Z
UID:604-1483700400-1483902000@allthingsgirlscouts.com
SUMMARY:Daytona International Speedway Scout Days at the Roar
DESCRIPTION:SELL YOUR COOKIES AT THE DAYTONA 500!* The three troops that sell the most Scout Days tickets packages will be awarded with a reserved booth and space outside of Daytona International Speedway to sell cookies. Troops are eligible to sell cookies on specific event days based on their overall finish in total packages sold. 1ST PLACE PowerShares QQQ 300 (February 25) & DAYTONA 500 (February 26) 2ND PLACE Can-Am Duel (February 23) & NextEra Energy Resources 250 (February 24) 3RD PLACE The Clash at DAYTONA & Lucas Oil 200 (February 18) *must sell at least 30 packages to be eligible   Price $30.00 PACKAGE INCLUDES: Women in motorsports programming – Q&A sessions\, demonstrations and more! Two nights of camping in the famous infield of Daytona International Speedway (Friday & Saturday nights) Designated Girl Scouts-only camping area Bring your tents\, sleeping bags and firewood RV camping available Collectible patch Saturday morning track walk Access to all the fun activities in the infield during IMSA WeatherTech SportsCar Championship testing Fishing on Lake Lloyd (bring your fishing reels) Speedway tour including a stop at the stadium Scavenger hunt $10 DAYTONA Dollars (good at any Speedway concession stand) Much\, much more
URL:https://allthingsgirlscouts.com/event/daytona-international-speedway-scout-days-at-the-roar/
CATEGORIES:Adult,Ambassador,Brownie,Cadette,Daisy,Junior,Senior
ATTACH;FMTTYPE=image/png:https://allthingsgirlscouts.com/wp-content/uploads/2017/01/DBJCSA-Grade-Level-Long.png
END:VEVENT
END:VCALENDAR