BEGIN:VCALENDAR
VERSION:2.0
PRODID:-//All Things Girl Scouts - ECPv6.15.20//NONSGML v1.0//EN
CALSCALE:GREGORIAN
METHOD:PUBLISH
X-ORIGINAL-URL:https://allthingsgirlscouts.com
X-WR-CALDESC:Events for All Things Girl Scouts
REFRESH-INTERVAL;VALUE=DURATION:PT1H
X-Robots-Tag:noindex
X-PUBLISHED-TTL:PT1H
BEGIN:VTIMEZONE
TZID:UTC
BEGIN:STANDARD
TZOFFSETFROM:+0000
TZOFFSETTO:+0000
TZNAME:UTC
DTSTART:20160101T000000
END:STANDARD
END:VTIMEZONE
BEGIN:VEVENT
DTSTART;TZID=UTC:20170304T090000
DTEND;TZID=UTC:20170304T163000
DTSTAMP:20260424T100637
CREATED:20170129T142200Z
LAST-MODIFIED:20170224T025119Z
UID:641-1488618000-1488645000@allthingsgirlscouts.com
SUMMARY:LiA – Leadership in Action – Award Day
DESCRIPTION:Calling all Cadettes! If you are interested in earning your LiA award during this one day training and workshop then register now! The LiA award is a mentoring award that Cadette Girl Scouts can earn when they work with Brownies and help them earn a Journey. To become a Program Aide\, this is also required. It is step 1\, in a 3 step process that you can find in your Girl Guide. Cadettes will spend the morning learning the basics of leadership by creating activities to implement\, developing a schedule and more. The afternoon will be spent facilitating the WOW – Wonders of Water Journey for Brownies that will attend their session. Cadettes will receive their LiA award at the end of the day. Program Fee: Girl Member $10 per person – included materials\, lunch\, award Program Level: Currently registered Cadettes – no tagalongs Registration Deadline: Monday\, February 13th or when program is full Please Note: This is a girl only training\, girls will need to be dropped off and picked up 
URL:https://allthingsgirlscouts.com/event/lia-leadership-in-action-award-day/
LOCATION:Mah Kah Wee Program Center\, 1700 S County Road 419\, Chuluota\, FL\, 32766\, United States
CATEGORIES:8th - Cadette,Cadette
ATTACH;FMTTYPE=image/png:https://allthingsgirlscouts.com/wp-content/uploads/2017/01/Cadette-Grade-Level-Long.png
END:VEVENT
END:VCALENDAR