BEGIN:VCALENDAR
VERSION:2.0
PRODID:-//All Things Girl Scouts - ECPv6.15.20//NONSGML v1.0//EN
CALSCALE:GREGORIAN
METHOD:PUBLISH
X-WR-CALNAME:All Things Girl Scouts
X-ORIGINAL-URL:https://allthingsgirlscouts.com
X-WR-CALDESC:Events for All Things Girl Scouts
REFRESH-INTERVAL;VALUE=DURATION:PT1H
X-Robots-Tag:noindex
X-PUBLISHED-TTL:PT1H
BEGIN:VTIMEZONE
TZID:UTC
BEGIN:STANDARD
TZOFFSETFROM:+0000
TZOFFSETTO:+0000
TZNAME:UTC
DTSTART:20160101T000000
END:STANDARD
END:VTIMEZONE
BEGIN:VEVENT
DTSTART;TZID=UTC:20170625T140000
DTEND;TZID=UTC:20170627T153000
DTSTAMP:20260424T080833
CREATED:20170129T142230Z
LAST-MODIFIED:20170224T025048Z
UID:680-1498399200-1498577400@allthingsgirlscouts.com
SUMMARY:Week 3 Sampler Camp– Ocean of Colors
DESCRIPTION:If you enjoy getting crafty\, experimenting with different colors\, and letting your creativity flow\, then come to the Mah-Kah-Wee Studio of Art. Spend time letting nature inspire your creativity. Come and make art by the lake while you listen to the sounds of nature.  We can’t wait to see where your imagination will take us! Campers will earn: Daises – Participation Patch Brownies – Outdoor Art Badge   Early Bird Discount – Register and pay in full by April 6\, 2017  Member Fee: $ 155     Non- Member Fee: $180   Full Fees apply if not paid in full beginning April 7\, 2017 Member Fee : $ 175     Non- Member Fee: $200   Program Level : Currently registered as a DB Registration Deadline : Monday\, May 15 th or when session is full  
URL:https://allthingsgirlscouts.com/event/week-3-sampler-camp-ocean-of-colors/
LOCATION:Mah Kah Wee Program Center\, 1700 S County Road 419\, Chuluota\, FL\, 32766\, United States
CATEGORIES:3rd - Brownie,Brownie,Daisy
ATTACH;FMTTYPE=image/png:https://allthingsgirlscouts.com/wp-content/uploads/2017/01/DB-Grade-Level-Long.png
END:VEVENT
BEGIN:VEVENT
DTSTART;TZID=UTC:20170618T140000
DTEND;TZID=UTC:20170623T150000
DTSTAMP:20260424T080833
CREATED:20170129T142226Z
LAST-MODIFIED:20170224T025047Z
UID:677-1497794400-1498230000@allthingsgirlscouts.com
SUMMARY:Week 2 Resident Camp – Seahorses\, Sea Turtles and Sharks OH MY
DESCRIPTION:There is so much to sea at Orlando Sea Life Aquarium . Come and spend some time with the coolest creatures of the sea. While at camp you will venture out on the lake for a canoe trip then spend some time floating in the pool with some of your favorite fish. Get more in tune with the creatures of the ocean and learn about what we can do to help keep their homes clean and safe while crafting and more! Campers will earn: Brownies – Senses Badge     Early Bird Discount – Register and pay in full by April 6\, 2017  Member Fee: $ 360     Non- Member Fee: $385   Full Fees apply if not paid in full beginning April 7\, 2017 Member Fee : $ 400     Non- Member Fee: $425   Program Level : Currently registered as a B Registration Deadline : Monday\, May 8 th or when session is full  
URL:https://allthingsgirlscouts.com/event/week-2-resident-camp-seahorses-sea-turtles-and-sharks-oh-my/
LOCATION:Mah Kah Wee Program Center\, 1700 S County Road 419\, Chuluota\, FL\, 32766\, United States
CATEGORIES:3rd - Brownie,Brownie
ATTACH;FMTTYPE=image/png:https://allthingsgirlscouts.com/wp-content/uploads/2017/01/Brownie-Grade-Level-Long.png
END:VEVENT
BEGIN:VEVENT
DTSTART;TZID=UTC:20170618T140000
DTEND;TZID=UTC:20170620T153000
DTSTAMP:20260424T080833
CREATED:20170129T142225Z
LAST-MODIFIED:20170224T025045Z
UID:674-1497794400-1497972600@allthingsgirlscouts.com
SUMMARY:Week 2 Sampler Camp –Messy Music Makers
DESCRIPTION:Come spend this musical week making messy\, magical instruments out of everyday items. Have fun getting messy to the beat of an all camp drum and grooving to the sounds of the nature song. So don’t forget to keep calm and jam on! Campers will earn: Daises – Participation Patch Brownies – Outdoor Art Badge   Early Bird Discount – Register and pay in full by April 6\, 2017  Member Fee: $ 155     Non- Member Fee: $180   Full Fees apply if not paid in full beginning April 7\, 2017 Member Fee : $ 175     Non- Member Fee: $200   Program Level : Currently registered as a DB Registration Deadline : Monday\, May 8 th or when session is full  
URL:https://allthingsgirlscouts.com/event/week-2-sampler-camp-messy-music-makers/
LOCATION:Mah Kah Wee Program Center\, 1700 S County Road 419\, Chuluota\, FL\, 32766\, United States
CATEGORIES:3rd - Brownie,Brownie,Daisy
ATTACH;FMTTYPE=image/png:https://allthingsgirlscouts.com/wp-content/uploads/2017/01/DB-Grade-Level-Long.png
END:VEVENT
BEGIN:VEVENT
DTSTART;TZID=UTC:20170611T140000
DTEND;TZID=UTC:20170613T153000
DTSTAMP:20260424T080833
CREATED:20170129T142221Z
LAST-MODIFIED:20170224T025044Z
UID:670-1497189600-1497367800@allthingsgirlscouts.com
SUMMARY:Week 1 Sampler Camp – Splash into Summer
DESCRIPTION:Come Splash into Summer during our opening week at camp! Girls will have a blast spending their time playing water games\, making new friends\, slip-n-sliding and more! Girls will learn about the water cycle and even make an edible aquafer!   Campers will earn: Daises – Participation Patch Brownies – Household Elf Badge   Early Bird Discount – Register and pay in full by April 6\, 2017  Member Fee: $ 155     Non- Member Fee: $180   Full Fees apply if not paid in full beginning April 7\, 2017 Member Fee : $ 175     Non- Member Fee: $200   Program Level : Currently registered as a DB Registration Deadline : Monday\, May 1 st or when session is full  
URL:https://allthingsgirlscouts.com/event/week-1-sampler-camp-splash-into-summer/
LOCATION:Mah Kah Wee Program Center\, 1700 S County Road 419\, Chuluota\, FL\, 32766\, United States
CATEGORIES:3rd - Brownie,Brownie,Daisy
ATTACH;FMTTYPE=image/png:https://allthingsgirlscouts.com/wp-content/uploads/2017/01/DB-Grade-Level-Long.png
END:VEVENT
END:VCALENDAR