BEGIN:VCALENDAR
VERSION:2.0
PRODID:-//All Things Girl Scouts - ECPv6.15.20//NONSGML v1.0//EN
CALSCALE:GREGORIAN
METHOD:PUBLISH
X-WR-CALNAME:All Things Girl Scouts
X-ORIGINAL-URL:https://allthingsgirlscouts.com
X-WR-CALDESC:Events for All Things Girl Scouts
REFRESH-INTERVAL;VALUE=DURATION:PT1H
X-Robots-Tag:noindex
X-PUBLISHED-TTL:PT1H
BEGIN:VTIMEZONE
TZID:UTC
BEGIN:STANDARD
TZOFFSETFROM:+0000
TZOFFSETTO:+0000
TZNAME:UTC
DTSTART:20160101T000000
END:STANDARD
END:VTIMEZONE
BEGIN:VEVENT
DTSTART;VALUE=DATE:20190311
DTEND;VALUE=DATE:20190312
DTSTAMP:20260424T083439
CREATED:20190305T214513Z
LAST-MODIFIED:20190305T214513Z
UID:2996-1552262400-1552348799@allthingsgirlscouts.com
SUMMARY:Citrus Singers Performance: Winter Park Sidewalk Art Festival
DESCRIPTION:Come out and support the Citrus Singers as the perform at the Winter Park Sidewalk Art Festival on Saturday March 16\, 2019 at 11am.
URL:https://allthingsgirlscouts.com/event/citrus-singers-performance-winter-park-sidewalk-art-festival/
LOCATION:Winter Park Sidewalk Art Festival\, 328 N Park Ave\, Winter Park\, FL\, 32789\, United States
CATEGORIES:10th - Senior,12th - Ambassador,1st - Daisy,3rd - Brownie,5th - Junior,8th - Cadette,Adult
ATTACH;FMTTYPE=image/jpeg:https://allthingsgirlscouts.com/wp-content/uploads/2019/03/wpart.jpg
END:VEVENT
BEGIN:VEVENT
DTSTART;TZID=UTC:20171007T090000
DTEND;TZID=UTC:20171007T130000
DTSTAMP:20260424T083439
CREATED:20170831T144529Z
LAST-MODIFIED:20170928T212550Z
UID:1978-1507366800-1507381200@allthingsgirlscouts.com
SUMMARY:Destination Exploration: Superhero Adventure at MKW
DESCRIPTION:  \nCalling all Girl Scout Superheroes! Want to hear about exciting new events\, meet community partners\, and learn about Fall Product? Then Destination Exploration is the place to be! \nWe are inviting all Girls\, Troop Leaders\, Parents\, Friends\, and Family to join forces with us as we spend the day exploring everything Girl Scouts of Citrus has to offer for the 2017-2018 year. Should you chose to accept this mission\, you will be provided with a map to help you navigate through checkpoints that highlight a variety of program opportunities\, community partners\, and hands on activities. \nAs if this wasn’t SUPER enough already\, you will also have the opportunity to participate in a guided nature hike\, The Fall Product Rally\, 59 Minute Quick Start\, and taste your way through local food trucks! \nYou will have the option to choose from one of our 59 Minute Quick Start sessions where girls will be calling friends and family and sharing how supporters can help them reach their goal by purchasing Magazine Gift Cards using the Phone Script provided. \nGrab your gear and be ready to Unleash the HERO Inside! Superhero costumes are welcome and you will receive a small token for dressing up. \nRegistration is required for all superheroes and sidekicks 5 years and older. Superheroes in training\, Ages 4 and under\, are free. Children must be accompanied by adults at all times. Villains will not be welcomed. \nEvent Cost: $3 per person – includes all activities and Fun Patch (food or beverages sold separately) \nEveryone must wear closed-toe shoes for their safety. \n*If you are participating in the 59 minute challenge please download the Quick Start Tools.
URL:https://allthingsgirlscouts.com/event/destination-exploration-superhero-adventure-at-mkw/
LOCATION:Mah Kah Wee Program Center\, 1700 S County Road 419\, Chuluota\, FL\, 32766\, United States
CATEGORIES:10th - Senior,12th - Ambassador,1st - Daisy,3rd - Brownie,5th - Junior,8th - Cadette,Adult,Ambassador,Brownie,Cadette,Daisy,Junior,Senior
ATTACH;FMTTYPE=image/jpeg:https://allthingsgirlscouts.com/wp-content/uploads/2017/08/Destination-Exploration.jpg
END:VEVENT
BEGIN:VEVENT
DTSTART;TZID=UTC:20170927T150000
DTEND;TZID=UTC:20171014T230000
DTSTAMP:20260424T083439
CREATED:20170925T194031Z
LAST-MODIFIED:20170928T231125Z
UID:2028-1506524400-1508022000@allthingsgirlscouts.com
SUMMARY:Brevard Citrus Singer Auditions
DESCRIPTION:The Citrus Singers Girl Scouts Chorus of Brevard is now adding members to the group for their fall and holiday shows. This is a great opportunity to perform around the Central Florida area for community\, sporting\, and scouting events! \nWho can apply? \nAny Girl Scout 3rd grade BROWNIE or ABOVE who can sing in pitch and has an enthusiasm to perform. \nHow to Audition: \nHave the singer prepare two songs: pop\, holiday or musical theatre selections\, each about 1-2 minutes long (such as a verse and a chorus\, or the last half of the song\, etc…). Pick any songs that can be sung with confidence\, preferably memorized.  They must use a karaoke/back up music track that does not have the lead vocal on it. You can search YouTube for different variations \nUpload the recording to youtube or another video sharing site. Keep the video ‘public’. Email the video link to: Diana Carey at gstroop659@gmail.com. You will get a response within 24 hours. \n \nWhat to expect: \nChorus rehearses 3-4x per month in October and November\, usually on Saturday or Sunday late afternoon such as 4p– 6:00p (TBD). Girls sing as a group with microphones some will have the opportunity for solo parts. Some girls may sing harmonies and there may be some light movement. \nThe singer must sing in pitch and should have an interest in performing. They can be new\, but should be enthusiastic about participating. \nNovember & December we will perform holiday songs at a number of East Coast Florida venues and at the Orlando Citrus Bowl on December 16\, 2017 \n 
URL:https://allthingsgirlscouts.com/event/brevard-citrus-singer-auditions/
LOCATION:FL
CATEGORIES:10th - Senior,8th - Cadette,Ambassador,Brownie,Cadette,Junior,Senior
ATTACH;FMTTYPE=image/jpeg:https://allthingsgirlscouts.com/wp-content/uploads/2017/09/Citrus-Singers.jpg
END:VEVENT
BEGIN:VEVENT
DTSTART;TZID=UTC:20170923T110000
DTEND;TZID=UTC:20170923T140000
DTSTAMP:20260424T083439
CREATED:20170919T142431Z
LAST-MODIFIED:20170919T142431Z
UID:2010-1506164400-1506175200@allthingsgirlscouts.com
SUMMARY:Girl Scout Day at JOANN
DESCRIPTION:  \nJoin us September 23rd from 11 AM – 2 PM for JOANN Girl Scout Day! This event is open to the public. \nLearn how to craft your own Sit Upon (Discount for materials available). Enjoy light snacks and beverages. Also\, meet and greet local Store Managers and District Managers from your nearby JOANN store. \nLearn more about the partnership between Girl Scouts and JOANN and don’t forget to sign up for your reward program before Girl Scout day so you can get your 15% in savings! \nIf your troop is wanting to make a sit upon in the store\, the following supplies are needed and can be supplied by JOANN. Please reach out to the store and provide an estimate of attendees from your troop\, so we can make sure to have enough supplies/support on hand. \nSupplies needed for the sit upon: \n\nTote\nFoam\nDuck Tape (35% off coupon available in store)\nScissors (can use store scissors)\n\nClick here to find the JOANN store near you
URL:https://allthingsgirlscouts.com/event/girl-scout-day-at-joann/
LOCATION:FL
CATEGORIES:10th - Senior,12th - Ambassador,1st - Daisy,3rd - Brownie,5th - Junior,8th - Cadette,Adult,Ambassador,Brownie,Cadette,Daisy,Junior,Senior
ATTACH;FMTTYPE=image/jpeg:https://allthingsgirlscouts.com/wp-content/uploads/2017/09/JOANN-Girl-Scout-Day.jpg
END:VEVENT
BEGIN:VEVENT
DTSTART;TZID=UTC:20170810T173000
DTEND;TZID=UTC:20170810T193000
DTSTAMP:20260424T083439
CREATED:20170801T194943Z
LAST-MODIFIED:20170801T195024Z
UID:1870-1502386200-1502393400@allthingsgirlscouts.com
SUMMARY:Set a World Record on National S'mores Day
DESCRIPTION:  \nCalling all Citrus Council Girl Scouts and members! Have you ever helped accomplish a world record? Well\, now is your chance! Girl Scouts is excited to celebrate National S’mores Day by helping Wondermade set a world record for the most people making a S’mores together! \nOn August 10th\, Wondermade is hosting a street party on 1st Street in downtown Sanford to celebrate National S’mores Day that will include kids’ crafts\, live music\, food\, and\, of course\, free s’mores at 7 for everyone there to help set the record. \nDon’t miss this fantastic opportunity to be part of a record-breaking event! Girl Scouts will have their own check-in and will be directed to a specific area for the record breaking moment so that we can share in the excitement together! We’ll also have a special announcement about new Wondermade Girl Scout programs and other exciting news to share! And Citrus Council CEO Maryann Barry will be there taking as many S’mores selfies as she can! \nAlso! We will have a special Girl Scout team participating in a competition to see who can build the tallest s’mores! Think you’ve got what it takes to help us win? Complete this short survey to be considered for the team –  https://girlscoutscc.wufoo.com/forms/r1z1f3s104znbr/. You must submit by August 1st\, 2017 and only Girl Scouts will be considered. \nTagalongs\, friends and family members are welcome to attend\, but everyone that would like to part of our official Citrus Council group must register in advance. This event is open to the public for free\, but by registering through Citrus Council\, you reserve your spot and receive a fun patch for your participation in this event and a surprise keepsake! \nGirl Scouts are encouraged to wear their vests or sashes. All Girl Scouts must be accompanied by an adult chaperone. \nWondermade is a family-owned marshmallow and dessert company with a cafe located in Sanford\, FL. To learn more and to check out their delicious treats\, please visit their website: https://www.wondermade.com/ \nAnd hey\, did you know that the first published recipe for “some mores” was in published in 1927 Girl Scout book?!
URL:https://allthingsgirlscouts.com/event/set-a-world-record-on-national-smores-day/
LOCATION:Downtown Sanford\, 214 East 1st Street\, Sanford\, FL\, 32771\, United States
CATEGORIES:10th - Senior,12th - Ambassador,1st - Daisy,3rd - Brownie,5th - Junior,8th - Cadette,Adult,Ambassador,Brownie,Cadette,Daisy,Junior,Senior
ATTACH;FMTTYPE=image/jpeg:https://allthingsgirlscouts.com/wp-content/uploads/2017/08/smores.jpg
END:VEVENT
BEGIN:VEVENT
DTSTART;TZID=UTC:20170304T090000
DTEND;TZID=UTC:20170304T160000
DTSTAMP:20260424T083439
CREATED:20170129T142200Z
LAST-MODIFIED:20170224T025121Z
UID:640-1488618000-1488643200@allthingsgirlscouts.com
SUMMARY:Aquatics Day – Senior Paddling Workshop
DESCRIPTION:Do you enjoy being out on the water? Then come and spend the day having fun on the Banana River and/or Sykes Creek learning new activities! During this fun day Senior Girl Scouts will earn their Paddling Badge by learning the basics of Canoes\, Kayaks & Paddleboards. By participating in this event\, girls will have completed the requirements for the Senior Paddling badge. Fee includes: program\, badge & lunch. Girls will earn Paddling Badge Program Fee: Senior Girl Scouts $20 per person  Program Level: Currently registered as a Senior Registration Deadline: Monday\, February 13th or when program is full Please Note: This is a girl only event. Girls will need to be checked in and out from the program center. Registered participants only – no tagalongs. Girls must be comfortable getting in the water and be able to participate in physically demanding activities. Girls will all be given a swim test upon arrival.
URL:https://allthingsgirlscouts.com/event/aquatics-day-senior-paddling-workshop/
LOCATION:Riverpoint Program Center\, 2250 New Found Harbour Drive\, Merritt Island\, FL\, 32952\, United States
CATEGORIES:10th - Senior,Senior
ATTACH;FMTTYPE=image/png:https://allthingsgirlscouts.com/wp-content/uploads/2017/01/Senior-Grade-Level-Long.png
END:VEVENT
END:VCALENDAR